BEGIN:VCALENDAR
VERSION:2.0
PRODID:-//ChamberMaster//Event Calendar 2.0//EN
METHOD:PUBLISH
X-PUBLISHED-TTL:P3D
REFRESH-INTERVAL:P3D
CALSCALE:GREGORIAN
BEGIN:VEVENT
DTSTART:20130125T210000Z
DTEND:20130126T000000Z
X-MICROSOFT-CDO-ALLDAYEVENT:FALSE
SUMMARY:Y.E.S. Youth Entrepreneurship Showcase
DESCRIPTION:Several youth entrepreneurs will be featuring their business at the Youth Entrepreneurship Showcase.  Businesses will feature hand-made products and unique services.  \n\n\n\nThe community is invited to attend the Y.E.S. to show their support for these young entrepreneurs.
X-ALT-DESC;FMTTYPE=text/html:Several youth entrepreneurs will be featuring their business at the Youth Entrepreneurship Showcase. &nbsp\;Businesses will feature&nbsp\;hand-made products and unique services. &nbsp\;<br />\n<br />\nThe community is invited to attend the Y.E.S. to show their support for these young entrepreneurs.&nbsp\;<br />\n<br />\n<br />\n<br />\n
LOCATION:Ord High School - New Commons Area
UID:e.1165.1337
SEQUENCE:3
DTSTAMP:20260423T101104Z
URL:https://chamber.ordnebraska.com/events/details/y-e-s-youth-entrepreneurship-showcase-01-25-2013-1337
END:VEVENT

END:VCALENDAR
