BEGIN:VCALENDAR
VERSION:2.0
PRODID:-//ChamberMaster//Event Calendar 2.0//EN
METHOD:PUBLISH
X-PUBLISHED-TTL:P3D
REFRESH-INTERVAL:P3D
CALSCALE:GREGORIAN
BEGIN:VEVENT
DTSTART:20110801T170000Z
DTEND:20110801T180000Z
X-MICROSOFT-CDO-ALLDAYEVENT:FALSE
SUMMARY:Wolf Chiropractic Grand Opening & Ribbon Cutting
DESCRIPTION:Stop by to meet Dr. Jonathan Blaha\, enjoy refreshments\, and learn about the benefits of their chiropractic services.
X-ALT-DESC;FMTTYPE=text/html:Stop by to meet Dr. Jonathan Blaha\, enjoy refreshments\, and learn about the benefits of their chiropractic services.&nbsp\; 
LOCATION:Office in the Executive Plaza\, 1523 M Street\, Ord.
UID:e.1165.459
SEQUENCE:3
DTSTAMP:20260424T105210Z
URL:https://chamber.ordnebraska.com/events/details/wolf-chiropractic-grand-opening-ribbon-cutting-08-01-2011-459
END:VEVENT

END:VCALENDAR
