BEGIN:VCALENDAR
VERSION:2.0
PRODID:-//ChamberMaster//Event Calendar 2.0//EN
METHOD:PUBLISH
X-PUBLISHED-TTL:P3D
REFRESH-INTERVAL:P3D
CALSCALE:GREGORIAN
BEGIN:VEVENT
DTSTART:20110916T220000Z
DTEND:20110917T000000Z
X-MICROSOFT-CDO-ALLDAYEVENT:FALSE
SUMMARY:Wild on the Vine - Ord Rotary Polio Fundraiser
DESCRIPTION:Wild on the Vine will feature Nebraska wine\, entertainment\, and snacks.  Proceeds from the event will benefit the Rotary Polio Plus Program.  Matching funds from Bill and Melinda Gates.
X-ALT-DESC;FMTTYPE=text/html:<p>\n	Wild on the Vine will feature Nebraska wine\, entertainment\, and snacks.&nbsp\; Proceeds from the event will benefit the Rotary Polio Plus Program.&nbsp\; Matching funds from Bill and Melinda Gates.&nbsp\;</p>\n
LOCATION:Calamity Jane's Restaurant\, 116 South 15th Street\, Ord
UID:e.1165.522
SEQUENCE:3
DTSTAMP:20260423T101257Z
URL:https://chamber.ordnebraska.com/events/details/wild-on-the-vine-ord-rotary-polio-fundraiser-09-16-2011-522
END:VEVENT

END:VCALENDAR
