BEGIN:VCALENDAR
VERSION:2.0
PRODID:-//ChamberMaster//Event Calendar 2.0//EN
METHOD:PUBLISH
X-PUBLISHED-TTL:P3D
REFRESH-INTERVAL:P3D
CALSCALE:GREGORIAN
BEGIN:VEVENT
DTSTART:20110702T190000Z
DTEND:20110702T230000Z
X-MICROSOFT-CDO-ALLDAYEVENT:FALSE
SUMMARY:Vintage Ball Game
DESCRIPTION:A vintage ball game will be held at Fort Hartsuff with a potluck meal following the game.
X-ALT-DESC;FMTTYPE=text/html:A vintage ball game will be held at Fort Hartsuff with a potluck meal following the game. 
LOCATION:Fort Hartsuff
UID:e.1165.319
SEQUENCE:3
DTSTAMP:20260424T115803Z
URL:https://chamber.ordnebraska.com/events/details/vintage-ball-game-07-02-2011-319
END:VEVENT

END:VCALENDAR
