BEGIN:VCALENDAR
VERSION:2.0
PRODID:-//ChamberMaster//Event Calendar 2.0//EN
METHOD:PUBLISH
X-PUBLISHED-TTL:P3D
REFRESH-INTERVAL:P3D
CALSCALE:GREGORIAN
BEGIN:VEVENT
DTSTART:20110623T110000Z
DTEND:20110623T140000Z
X-MICROSOFT-CDO-ALLDAYEVENT:FALSE
SUMMARY:VCHS 3rd Annual Health Fair
DESCRIPTION:The main attractions at Valley County Health System's 3rd Annual Health Fair will be blood chemistries\, blood pressure checks and a free will donation breakfast. The Health Fair will focus on health education and the promotion of wellness within our service area. In addition\, health related vendors will have displays available to provide educational information to those who attend. Pregistration for the health screen is encouraged.
X-ALT-DESC;FMTTYPE=text/html:The main attractions at Valley County Health System&#39\;s&nbsp\;3rd Annual Health Fair will be blood chemistries\, blood pressure checks and a free will donation breakfast. The Health Fair will focus on health education and the promotion of wellness within our service area. In addition\, health related vendors will have displays available to provide educational information to those who attend. Pregistration for the health screen is encouraged.
LOCATION:2707 L Street\, Ord\, NE 68862
UID:e.1165.2
SEQUENCE:3
DTSTAMP:20260424T132728Z
URL:https://chamber.ordnebraska.com/events/details/vchs-3rd-annual-health-fair-06-23-2011-2
END:VEVENT

END:VCALENDAR
