BEGIN:VCALENDAR
VERSION:2.0
PRODID:-//ChamberMaster//Event Calendar 2.0//EN
METHOD:PUBLISH
X-PUBLISHED-TTL:P3D
REFRESH-INTERVAL:P3D
CALSCALE:GREGORIAN
BEGIN:VEVENT
DTSTART:20111028T220000Z
DTEND:20111029T000000Z
X-MICROSOFT-CDO-ALLDAYEVENT:FALSE
SUMMARY:Valley Thunder Rods & Restoration
DESCRIPTION:Tour their facility and learn about the services they offer.  Appetizers and beverages will be served.
X-ALT-DESC;FMTTYPE=text/html:Tour their facility and learn about the services they offer.&nbsp\; Appetizers and beverages will be served. 
LOCATION:Valley Thunder Rods & Restoration 415 Riverview Drive\, Ord (east of the Valley County Fairgrounds)
UID:e.1165.658
SEQUENCE:3
DTSTAMP:20260423T083859Z
URL:https://chamber.ordnebraska.com/events/details/valley-thunder-rods-restoration-10-28-2011-658
END:VEVENT

END:VCALENDAR
