BEGIN:VCALENDAR
VERSION:2.0
PRODID:-//ChamberMaster//Event Calendar 2.0//EN
METHOD:PUBLISH
X-PUBLISHED-TTL:P3D
REFRESH-INTERVAL:P3D
CALSCALE:GREGORIAN
BEGIN:VEVENT
DTSTART:20110522T190000Z
DTEND:20110522T210000Z
X-MICROSOFT-CDO-ALLDAYEVENT:FALSE
SUMMARY:Valley Harmonizers Barbershop Concert
DESCRIPTION:
X-ALT-DESC;FMTTYPE=text/html:
LOCATION:
UID:e.1165.6
SEQUENCE:3
DTSTAMP:20260424T143807Z
URL:https://chamber.ordnebraska.com/events/details/valley-harmonizers-barbershop-concert-05-22-2011-6
END:VEVENT

END:VCALENDAR
