BEGIN:VCALENDAR
VERSION:2.0
PRODID:-//ChamberMaster//Event Calendar 2.0//EN
METHOD:PUBLISH
X-PUBLISHED-TTL:P3D
REFRESH-INTERVAL:P3D
CALSCALE:GREGORIAN
BEGIN:VEVENT
DTSTART:20130109T141500Z
DTEND:20130110T033000Z
X-MICROSOFT-CDO-ALLDAYEVENT:FALSE
SUMMARY:Valley County Philanthropic Partners Meeting
DESCRIPTION:The main topic of discussion during this month's meeting will be plans for the The Big Give - the 1st Annual Valley County Giving Day.
X-ALT-DESC;FMTTYPE=text/html:The main topic of discussion during this month&#39\;s meeting will be plans for the The Big Give - the 1st Annual Valley County Giving Day.&nbsp\;
LOCATION:Valley Fire
UID:e.1165.1339
SEQUENCE:3
DTSTAMP:20260423T101030Z
URL:https://chamber.ordnebraska.com/events/details/valley-county-philanthropic-partners-meeting-01-09-2013-1339
END:VEVENT

END:VCALENDAR
