BEGIN:VCALENDAR
VERSION:2.0
PRODID:-//ChamberMaster//Event Calendar 2.0//EN
METHOD:PUBLISH
X-PUBLISHED-TTL:P3D
REFRESH-INTERVAL:P3D
CALSCALE:GREGORIAN
BEGIN:VEVENT
DTSTART:20110912T170000Z
DTEND:20110912T180000Z
X-MICROSOFT-CDO-ALLDAYEVENT:FALSE
SUMMARY:Valley County Historical Society Meeting
DESCRIPTION:The Valley County Historical Society meets the second Monday of each month at the Valley County Museum.
X-ALT-DESC;FMTTYPE=text/html:The Valley County Historical Society meets the second Monday of each month at the Valley County Museum.&nbsp\; 
LOCATION:Valley County Museum\, downtown Ord.
UID:e.1165.315
SEQUENCE:3
DTSTAMP:20260423T104303Z
URL:https://chamber.ordnebraska.com/events/details/valley-county-historical-society-meeting-09-12-2011-315
END:VEVENT

END:VCALENDAR
