BEGIN:VCALENDAR
VERSION:2.0
PRODID:-//ChamberMaster//Event Calendar 2.0//EN
METHOD:PUBLISH
X-PUBLISHED-TTL:P3D
REFRESH-INTERVAL:P3D
CALSCALE:GREGORIAN
BEGIN:VEVENT
DTSTART;VALUE=DATE:20110731
DTEND;VALUE=DATE:20110808
TRANSP:TRANSPARENT
X-MICROSOFT-CDO-ALLDAYEVENT:TRUE
SUMMARY:Valley County Fair
DESCRIPTION:SUNDAY\, JULY 31\n\n	12:00 pm - Classic/Antique Tractor & Machinery Show at the Park\n\n	1:00 pm - Team Roping\n\n	3:00-6:00 pm - Firemen's BBQ in the Park\n\n	3:00 pm - Music in the Park by Keith Manchester and Gene Michalski\n\n	4:00 pm - Parade Line Up at the Park\n\n	4:30 pm - Parade Judging\n\n	5:00 pm - Parade (2011 Theme: Song Titles)\n\n	7:30 pm - 4-H Fashion Show\, Queen Coronation\, & Pioneer Farm Family & Special Awards  \n\n	\n\n	TUESDAY\, AUGUST 2\n\n	9:00 am - 4-H Horse Show\n\n	\n\n	WEDNESDAY\, AUGUST 3\n\n	12:00-1:00 pm - Check in Market\, Breeding Beef\n\n	1:00-2:00 pm - Check in Sheep and Goats\n\n	2:00-3:00 pm - Check in Swine\n\n	3:00-4:00 pm - Check in Poultry and Rabbits\n\n	7:00 pm - Bull Riding\n\n	\n\n	THURSDAY\, AUGUST 4\n\n	8:30 am-12:00 pm - 4-H and FFA Exhibit Entry and Interview Judging\n\n	8:30 am-12:00 pm - Open Class Entry\n\n	3:00 pm - 4-H and FFA Sheep and Goat Shows\n\n	3:30 pm - 4-H Bucket Calf Interviews\n\n	5:00 pm - Shopping Cart of Baked Goods and Veggies\n\n	5:00 pm - Turtle Race Registration\n\n	5:30 pm - Turtle Races\n\n	6:00 pm - Pedal Tractor Pull Registration\n\n	7:00 pm - Pedal Tractor Pull\n\n	7:00-8:00 pm - Swine have access to arena for practice (weather permitting)\n\n	8:00-9:00 pm - Beef have access to arena for practice (weather permitting)\n\n	After Tractor Pull - Orscheln's Sack Races\, Coin Dig (for ages 5 and under)\, Egg Toss\, FFA Tug of War\n\n	\n\n	FRIDAY\, AUGUST 5\n\n	7:00-9:00 am - Pancake Breakfast sponsored by Progressive Nutrition\n\n	8:00 am - 4-H and FFA Swine Show\n\n	8:30-11:30 am - Decorated Cake Interview Judging\n\n	8:30-9:00 am - Check in Feeder Calves\n\n	12:30 pm - 4-H Bucket Calf Judging\n\n	1:00 pm - 4-H and FFA Beef Showmanship\n\n	2:00 pm - 4-H and FFA Feeder Calf\, Breeding\, and Market Beef Show followed by Watermelon Feed sponsored by Farm Credit Services of America\n\n	5:00 pm - Inflatables\n\n	4:30-5:30 pm - Public Viewing of Decorated Cakes\n\n	5:00 pm - Brat and Hot Dog BBQ sponsored by First National Bank\n\n	5:30 pm - Champion 4-H Exhibit Awards and Decorated Cake Auction\n\n	7:00 pm - 4-H Cyberfair in the Tech Center\n\n	Evening Entertainment - Susie McEntire\n\n	\n\n	SATURDAY\, AUGUST 6\n\n	8:30 am-4-H and Open Class Poultry\, Rabbit\, Cat\, and Small Animal Show\n\n	9:00 am-2:00 pm - BBQ Cookoff\n\n	11:30 am - Overall Market Showman Competition\n\n	12:00 pm - Music by Larry Koncel\n\n	 3:00 pm - 4-H and FFA Livestock Auction\n\n	5:00 pm - 4-H and FFA Static Exhibits and Livestock Released\n\n	5:00 pm - Open Class and Cultural Arts Released\n\n	6:00 pm - Team Penning\n\n	9:00 p-Midnight - Knights of Columbus Teen Dance\n\n	\n\n	SUNDAY\, AUGUST 7\n\n	10:00 am - 4-D Barrel Racing
X-ALT-DESC;FMTTYPE=text/html:<p>\n	SUNDAY\, JULY 31<br />\n	12:00 pm - Classic/Antique Tractor &amp\; Machinery Show at the Park<br />\n	1:00 pm - Team Roping<br />\n	3:00-6:00 pm - Firemen&#39\;s BBQ in the Park<br />\n	3:00 pm - Music in the Park by Keith Manchester and Gene Michalski<br />\n	4:00 pm - Parade Line Up at the Park<br />\n	4:30 pm - Parade Judging<br />\n	5:00 pm - Parade (2011 Theme: Song Titles)<br />\n	7:30 pm - 4-H Fashion Show\, Queen Coronation\, &amp\; Pioneer Farm Family &amp\; Special Awards &nbsp\;<br />\n	<br />\n	TUESDAY\, AUGUST 2<br />\n	9:00 am - 4-H Horse Show<br />\n	<br />\n	WEDNESDAY\, AUGUST 3<br />\n	12:00-1:00 pm - Check in Market\, Breeding Beef<br />\n	1:00-2:00 pm - Check in Sheep and Goats<br />\n	2:00-3:00 pm - Check in Swine<br />\n	3:00-4:00 pm - Check in Poultry and Rabbits<br />\n	7:00 pm - Bull Riding<br />\n	<br />\n	THURSDAY\, AUGUST 4<br />\n	8:30 am-12:00 pm - 4-H and FFA Exhibit Entry and Interview Judging<br />\n	8:30 am-12:00 pm - Open Class Entry<br />\n	3:00 pm - 4-H and FFA Sheep and Goat Shows<br />\n	3:30 pm - 4-H Bucket Calf Interviews<br />\n	5:00 pm - Shopping Cart of Baked Goods and Veggies<br />\n	5:00 pm - Turtle Race Registration<br />\n	5:30 pm - Turtle Races<br />\n	6:00 pm - Pedal Tractor Pull Registration<br />\n	7:00 pm - Pedal Tractor Pull<br />\n	7:00-8:00 pm - Swine have access to arena for practice (weather permitting)<br />\n	8:00-9:00 pm - Beef have access to arena for practice (weather permitting)<br />\n	After Tractor Pull - Orscheln&#39\;s Sack Races\, Coin Dig (for ages 5 and under)\, Egg Toss\, FFA Tug of War<br />\n	<br />\n	FRIDAY\, AUGUST 5<br />\n	7:00-9:00 am - Pancake Breakfast sponsored by Progressive Nutrition<br />\n	8:00 am - 4-H and FFA Swine Show<br />\n	8:30-11:30 am - Decorated Cake Interview Judging<br />\n	8:30-9:00 am - Check in Feeder Calves<br />\n	12:30 pm - 4-H Bucket Calf Judging<br />\n	1:00 pm - 4-H and FFA Beef Showmanship<br />\n	2:00 pm - 4-H and FFA Feeder Calf\, Breeding\, and Market Beef Show followed by Watermelon Feed sponsored by Farm Credit Services of America<br />\n	5:00 pm - Inflatables<br />\n	4:30-5:30 pm - Public Viewing of Decorated Cakes<br />\n	5:00 pm - Brat and Hot Dog BBQ sponsored by First National Bank<br />\n	5:30 pm - Champion 4-H Exhibit Awards and Decorated Cake Auction<br />\n	7:00 pm - 4-H Cyberfair in the Tech Center<br />\n	Evening Entertainment - Susie McEntire<br />\n	<br />\n	SATURDAY\, AUGUST 6<br />\n	8:30 am-4-H and Open Class Poultry\, Rabbit\, Cat\, and Small Animal Show<br />\n	9:00 am-2:00 pm - BBQ Cookoff<br />\n	11:30 am - Overall Market Showman Competition<br />\n	12:00 pm - Music by Larry Koncel<br />\n	<span _fck_bookmark="1" style="display: none">&nbsp\;</span>3:00 pm - 4-H and FFA Livestock Auction<br />\n	5:00 pm - 4-H and FFA Static Exhibits and Livestock Released<br />\n	5:00 pm - Open Class and Cultural Arts Released<br />\n	6:00 pm - Team Penning<br />\n	9:00 p-Midnight - Knights of Columbus Teen Dance<br />\n	<br />\n	SUNDAY\, AUGUST 7<br />\n	10:00 am - 4-D Barrel Racing</p>\n
LOCATION:
UID:e.1165.13
SEQUENCE:3
DTSTAMP:20260424T104835Z
URL:https://chamber.ordnebraska.com/events/details/valley-county-fair-07-31-2011-13
END:VEVENT

END:VCALENDAR
