BEGIN:VCALENDAR
VERSION:2.0
PRODID:-//ChamberMaster//Event Calendar 2.0//EN
METHOD:PUBLISH
X-PUBLISHED-TTL:P3D
REFRESH-INTERVAL:P3D
CALSCALE:GREGORIAN
BEGIN:VEVENT
DTSTART:20130131T010000Z
DTEND:20130131T030000Z
X-MICROSOFT-CDO-ALLDAYEVENT:FALSE
SUMMARY:Valley County Economic Development Board Meeting
DESCRIPTION:
X-ALT-DESC;FMTTYPE=text/html:
LOCATION:Valley County Economic Development Office 1514 K Street Ord\, NE 68862
UID:e.1165.1348
SEQUENCE:3
DTSTAMP:20260423T100758Z
URL:https://chamber.ordnebraska.com/events/details/valley-county-economic-development-board-meeting-01-30-2013-1348
END:VEVENT

END:VCALENDAR
