BEGIN:VCALENDAR
VERSION:2.0
PRODID:-//ChamberMaster//Event Calendar 2.0//EN
METHOD:PUBLISH
X-PUBLISHED-TTL:P3D
REFRESH-INTERVAL:P3D
CALSCALE:GREGORIAN
BEGIN:VEVENT
DTSTART:20110908T230000Z
DTEND:20110909T020000Z
X-MICROSOFT-CDO-ALLDAYEVENT:FALSE
SUMMARY:UNL Planning Project Community Listening Session
DESCRIPTION:Community members are invited to attend a session regarding the UNL Planning Project for Valley County.  This project will provide comprehensive suggestions for development and redevelopment plans for the county.
X-ALT-DESC;FMTTYPE=text/html:Community members are invited to attend a session regarding the UNL Planning Project for Valley County.&nbsp\; This project will provide comprehensive suggestions for development and redevelopment plans for the county.
LOCATION:Ord Learning Center Commons Area\, 1514 K Street
UID:e.1165.508
SEQUENCE:3
DTSTAMP:20260423T113605Z
URL:https://chamber.ordnebraska.com/events/details/unl-planning-project-community-listening-session-09-08-2011-508
END:VEVENT

END:VCALENDAR
