BEGIN:VCALENDAR
VERSION:2.0
PRODID:-//ChamberMaster//Event Calendar 2.0//EN
METHOD:PUBLISH
X-PUBLISHED-TTL:P3D
REFRESH-INTERVAL:P3D
CALSCALE:GREGORIAN
BEGIN:VEVENT
DTSTART:20260425T140000Z
DTEND:20260425T180000Z
X-MICROSOFT-CDO-ALLDAYEVENT:FALSE
SUMMARY:Turtle Creek Plant Co. Open House
DESCRIPTION:Turtle Creek Plant Co. Open House\n\nAsh Hollow Coffee Co. will be serving in out of their coffee truck one more time.
X-ALT-DESC;FMTTYPE=text/html:<font size="4"><strong><span style="font-size:20px\;">Turtle Creek Plant Co. Open House</span></strong><br />\nAsh Hollow Coffee Co. will be serving in out of their coffee truck one more time.&nbsp\;</font>
LOCATION:Turtle Creek Plant Co. 81791 Hwy 11 Elyria\, NE 68837
UID:e.1165.12939
SEQUENCE:3
DTSTAMP:20260420T175443Z
URL:https://chamber.ordnebraska.com/events/details/turtle-creek-plant-co-open-house-12939
END:VEVENT

END:VCALENDAR
