BEGIN:VCALENDAR
VERSION:2.0
PRODID:-//ChamberMaster//Event Calendar 2.0//EN
METHOD:PUBLISH
X-PUBLISHED-TTL:P3D
REFRESH-INTERVAL:P3D
CALSCALE:GREGORIAN
BEGIN:VEVENT
DTSTART:20110914T160000Z
DTEND:20110914T170000Z
X-MICROSOFT-CDO-ALLDAYEVENT:FALSE
SUMMARY:Town Hall Meeting with Senator Kate Sullivan
DESCRIPTION:Join us during a discussion with Senator Kate Sullivan on September 14.  For more information\, visit http://www.ordnebraska.com/town-hall-scheduled-with-senator-sullivan/
X-ALT-DESC;FMTTYPE=text/html:Join us during a discussion with Senator Kate Sullivan on September 14.&nbsp\; For more information\, visit <a href="http://www.ordnebraska.com/town-hall-scheduled-with-senator-sullivan/">http://www.ordnebraska.com/town-hall-scheduled-with-senator-sullivan/</a><span _fck_bookmark="1" style="display: none">&nbsp\;</span>
LOCATION:Central Community College - Ord Learning Center\, 1514 K Street
UID:e.1165.503
SEQUENCE:3
DTSTAMP:20260423T104102Z
URL:https://chamber.ordnebraska.com/events/details/town-hall-meeting-with-senator-kate-sullivan-09-14-2011-503
END:VEVENT

END:VCALENDAR
