BEGIN:VCALENDAR
VERSION:2.0
PRODID:-//ChamberMaster//Event Calendar 2.0//EN
METHOD:PUBLISH
X-PUBLISHED-TTL:P3D
REFRESH-INTERVAL:P3D
CALSCALE:GREGORIAN
BEGIN:VEVENT
DTSTART:20130202T160000Z
DTEND:20130202T180000Z
X-MICROSOFT-CDO-ALLDAYEVENT:FALSE
SUMMARY:The Normal Roasting Co. Cupping Event
DESCRIPTION:Taste the difference between store bought coffee and our fresh roasted seasonal coffee. Learn how to identify characteristics such as body\, aroma\, sweetness\, acidity\, and more.
X-ALT-DESC;FMTTYPE=text/html:Taste the difference between store bought coffee and our fresh roasted seasonal coffee. Learn how to identify characteristics such as body\, aroma\, sweetness\, acidity\, and more.&nbsp\;<br />\n<br />\n<br />\n
LOCATION:The Blank Slate Theater 129 South 16th Street - Downtown Ord
UID:e.1165.1342
SEQUENCE:3
DTSTAMP:20260423T083824Z
URL:https://chamber.ordnebraska.com/events/details/the-normal-roasting-co-cupping-event-02-02-2013-1342
END:VEVENT

END:VCALENDAR
