BEGIN:VCALENDAR
VERSION:2.0
PRODID:-//ChamberMaster//Event Calendar 2.0//EN
METHOD:PUBLISH
X-PUBLISHED-TTL:P3D
REFRESH-INTERVAL:P3D
CALSCALE:GREGORIAN
BEGIN:VEVENT
DTSTART:20130321T150000Z
DTEND:20130322T150000Z
X-MICROSOFT-CDO-ALLDAYEVENT:FALSE
SUMMARY:The Big Give - 1st Annual Valley County Giving Day
DESCRIPTION:Give Big to Valley County is designed to promote local charitable giving to nonprofit organizations recognized as 501(c)(3) organizations throughout Valley County. Give Big to Valley County will be a 24 hour day of giving when everyone who cares about Valley County is encouraged to make a donation and show support for our local charitable organizations that contribute so much to our county. \n\n\n\nMore details will becoming soon!
X-ALT-DESC;FMTTYPE=text/html:Give Big to Valley County is designed to promote local charitable giving to nonprofit organizations recognized as 501(c)(3) organizations throughout Valley County. Give Big to Valley County will be a 24 hour day of giving when everyone who cares about Valley County is encouraged to make a donation and show support for our local charitable organizations that contribute so much to our county.&nbsp\;<br />\n<br />\nMore details will becoming soon!&nbsp\;
LOCATION:Valley County
UID:e.1165.1338
SEQUENCE:3
DTSTAMP:20260423T084344Z
URL:https://chamber.ordnebraska.com/events/details/the-big-give-1st-annual-valley-county-giving-day-03-21-2013-1338
END:VEVENT

END:VCALENDAR
