BEGIN:VCALENDAR
VERSION:2.0
PRODID:-//ChamberMaster//Event Calendar 2.0//EN
METHOD:PUBLISH
X-PUBLISHED-TTL:P3D
REFRESH-INTERVAL:P3D
CALSCALE:GREGORIAN
BEGIN:VEVENT
DTSTART:20110518T180000Z
DTEND:20110518T190000Z
X-MICROSOFT-CDO-ALLDAYEVENT:FALSE
SUMMARY:Technology 1st Ribbon Cutting
DESCRIPTION:
X-ALT-DESC;FMTTYPE=text/html:
LOCATION:1518 J Street Ord\, NE 68862
UID:e.1165.27
SEQUENCE:3
DTSTAMP:20260424T143402Z
URL:https://chamber.ordnebraska.com/events/details/technology-1st-ribbon-cutting-05-18-2011-27
END:VEVENT

END:VCALENDAR
