BEGIN:VCALENDAR
VERSION:2.0
PRODID:-//ChamberMaster//Event Calendar 2.0//EN
METHOD:PUBLISH
X-PUBLISHED-TTL:P3D
REFRESH-INTERVAL:P3D
CALSCALE:GREGORIAN
BEGIN:VEVENT
DTSTART:20111022T000000Z
DTEND:20111022T013000Z
X-MICROSOFT-CDO-ALLDAYEVENT:FALSE
SUMMARY:TeamMates Coaches Challenge
DESCRIPTION:College football coaches from Nebraska\, Iowa\, and Kansas have issued a friendly challenge to see which state can recruit the most new mentors.  The local TeamMates chapter will be working to recruit new mentors and mentees during the Ord vs. Madison football game.\n\n	\n\n	Information on the Ord Area TeamMates and the Coaches Challenge can be found here: http://www.ordnebraska.com/ord-area-teammates-chapter-celebrates-coaches-challenge/
X-ALT-DESC;FMTTYPE=text/html:<p>\n	College football coaches from Nebraska\, Iowa\, and Kansas have issued a friendly challenge to see which state can recruit the most new mentors.&nbsp\; The local TeamMates chapter will be working to recruit new mentors and mentees during the Ord vs. Madison football game.<br />\n	<br />\n	Information on the Ord Area TeamMates and the Coaches Challenge can be found here: <a href="http://www.ordnebraska.com/ord-area-teammates-chapter-celebrates-coaches-challenge/">http://www.ordnebraska.com/ord-area-teammates-chapter-celebrates-coaches-challenge/</a><br />\n	<span _fck_bookmark="1" style="display: none">&nbsp\;</span></p>\n
LOCATION:Ord vs. Madison Football Game Ord Football Field
UID:e.1165.660
SEQUENCE:3
DTSTAMP:20260423T083819Z
URL:https://chamber.ordnebraska.com/events/details/teammates-coaches-challenge-10-21-2011-660
END:VEVENT

END:VCALENDAR
