BEGIN:VCALENDAR
VERSION:2.0
PRODID:-//ChamberMaster//Event Calendar 2.0//EN
METHOD:PUBLISH
X-PUBLISHED-TTL:P3D
REFRESH-INTERVAL:P3D
CALSCALE:GREGORIAN
BEGIN:VEVENT
DTSTART;VALUE=DATE:20130214
DTEND;VALUE=DATE:20130215
TRANSP:TRANSPARENT
X-MICROSOFT-CDO-ALLDAYEVENT:TRUE
SUMMARY:Story Time Registration Deadline
DESCRIPTION:The Ord Township Library is proud to announce that Story Time for Children ages 0-5 will begin on Wednesday\, February 20th. Children ages 0-5 are welcome to attend the program at either 10:30 am or 7:00 pm. These two different time options are available to accommodate busy families.\n\n\n\nChildren need to bring their parents or caregivers with them as the program is centered around child/adult interaction.\n\n\n\nAny families\, who would like more information or are interested in participating\, can pick up a copy of the registration form and information sheet at the library - 1718 M Street - or have one sent via email by making the request to director@ordlibrary.org. Registrations must be received by February 14th.
X-ALT-DESC;FMTTYPE=text/html:The Ord Township Library is proud to announce that Story Time for Children ages 0-5 will begin on Wednesday\, February 20th. Children ages 0-5 are welcome to attend the program at either 10:30 am or 7:00 pm. These two different time options are available to accommodate busy families.<br />\n<br />\nChildren need to bring their parents or caregivers with them as the program is centered around child/adult interaction.<br />\n<br />\nAny families\, who would like more information or are interested in participating\, can pick up a copy of the registration form and information sheet at the library - 1718 M Street - or have one sent via email by making the request to director@ordlibrary.org. Registrations must be received by February 14th.&nbsp\;
LOCATION:Ord Township Library 1718 M Street - Ord
UID:e.1165.1351
SEQUENCE:3
DTSTAMP:20260423T083931Z
URL:https://chamber.ordnebraska.com/events/details/story-time-registration-deadline-02-14-2013-1351
END:VEVENT

END:VCALENDAR
