BEGIN:VCALENDAR
VERSION:2.0
PRODID:-//ChamberMaster//Event Calendar 2.0//EN
METHOD:PUBLISH
X-PUBLISHED-TTL:P3D
REFRESH-INTERVAL:P3D
CALSCALE:GREGORIAN
BEGIN:VEVENT
DTSTART:20110824T230000Z
DTEND:20110825T000000Z
X-MICROSOFT-CDO-ALLDAYEVENT:FALSE
SUMMARY:St Mary's School Open House
DESCRIPTION:Open House with Sloppy Joe Feed.  (Free Will Offering)
X-ALT-DESC;FMTTYPE=text/html:Open House with Sloppy Joe Feed.&nbsp\; (Free Will Offering)<br />\n<br />\n
LOCATION:Gorak Hall @ St Mary's School\, 527 North 20th\, Ord\, NE
UID:e.1165.493
SEQUENCE:3
DTSTAMP:20260424T105520Z
URL:https://chamber.ordnebraska.com/events/details/st-mary-s-school-open-house-08-24-2011-493
END:VEVENT

END:VCALENDAR
