BEGIN:VCALENDAR
VERSION:2.0
PRODID:-//ChamberMaster//Event Calendar 2.0//EN
METHOD:PUBLISH
X-PUBLISHED-TTL:P3D
REFRESH-INTERVAL:P3D
CALSCALE:GREGORIAN
BEGIN:VEVENT
DTSTART;VALUE=DATE:20111009
DTEND;VALUE=DATE:20111010
TRANSP:TRANSPARENT
X-MICROSOFT-CDO-ALLDAYEVENT:TRUE
SUMMARY:St. Mary's School Bazaar
DESCRIPTION:Food - Fun - Fellowship\n\n\n\nGames for all Ages - starting at 10:00 am\n\nPork Dinner - served 11:30am-2:00 pm  Adults: $7\, Ages 5-12: $4\, Ages 4 and Under: Free  Carry Out Available\n\nHand Quit Raffle\n\nCountry Store\n\nBake Sale & Snack Bar\n\nRaffle Drawing (cash\, Apple iPod Touch 8mg\, X-Box 360\, Nook e-reader\, Sylvania 32" HD LCD Flat Screen TV)\n\nSilent Auction
X-ALT-DESC;FMTTYPE=text/html:Food - Fun - Fellowship<br />\n<br />\nGames for all Ages - starting at 10:00 am<br />\nPork Dinner - served 11:30am-2:00 pm&nbsp\; Adults: $7\, Ages 5-12: $4\, Ages 4 and Under: Free&nbsp\; Carry Out Available<br />\nHand Quit Raffle<br />\nCountry Store<br />\nBake Sale &amp\; Snack Bar<br />\nRaffle Drawing (cash\, Apple iPod Touch 8mg\, X-Box 360\, Nook e-reader\, Sylvania 32&quot\; HD LCD Flat Screen TV)<br />\nSilent Auction<br />\n
LOCATION:St. Mary's School 527 N. 20th Street\, Ord
UID:e.1165.652
SEQUENCE:3
DTSTAMP:20260423T090447Z
URL:https://chamber.ordnebraska.com/events/details/st-mary-s-school-bazaar-10-09-2011-652
END:VEVENT

END:VCALENDAR
