BEGIN:VCALENDAR
VERSION:2.0
PRODID:-//ChamberMaster//Event Calendar 2.0//EN
METHOD:PUBLISH
X-PUBLISHED-TTL:P3D
REFRESH-INTERVAL:P3D
CALSCALE:GREGORIAN
BEGIN:VEVENT
DTSTART:20130406T130000Z
DTEND:20130406T200000Z
X-MICROSOFT-CDO-ALLDAYEVENT:FALSE
SUMMARY:St. John's Lutheran Youth Garage Sale
DESCRIPTION:If you have items you would like to donate to the St. John's Lutheran Youth Garage Sale\, please call Brenda Knight at (308) 730-0098.  They are accepting any of your used household items\, furniture\, etc.  Arrangements can be made to pick up large items.  \n\n\n\nProceeds from the garage sale will benefit the youth group's trip to San Antonio for the National Youth Convention.
X-ALT-DESC;FMTTYPE=text/html:If you have items you would like to donate to the St. John&#39\;s Lutheran Youth Garage Sale\, please call Brenda Knight at (308) 730-0098. &nbsp\;They are accepting any of your used household items\, furniture\, etc. &nbsp\;Arrangements can be made to pick up large items. &nbsp\;<br />\n<br />\nProceeds from the garage sale will benefit the youth group&#39\;s trip to San Antonio for the National Youth Convention.&nbsp\;
LOCATION:St. John's Lutheran Church - Family Life Center
UID:e.1165.1375
SEQUENCE:3
DTSTAMP:20260424T151709Z
URL:https://chamber.ordnebraska.com/events/details/st-john-s-lutheran-youth-garage-sale-04-06-2013-1375
END:VEVENT

END:VCALENDAR
