BEGIN:VCALENDAR
VERSION:2.0
PRODID:-//ChamberMaster//Event Calendar 2.0//EN
METHOD:PUBLISH
X-PUBLISHED-TTL:P3D
REFRESH-INTERVAL:P3D
CALSCALE:GREGORIAN
BEGIN:VEVENT
DTSTART:20110527T210000Z
DTEND:20110527T220000Z
X-MICROSOFT-CDO-ALLDAYEVENT:FALSE
SUMMARY:Shrine Circus
DESCRIPTION:The Shrine Circus will be performing as a part of ExtraORDinary Days.  Advance tickets can be purchased at the Ord Area Chamber of Commerce and Grocery Kart.
X-ALT-DESC;FMTTYPE=text/html:The Shrine Circus will be performing as a part of ExtraORDinary Days.&nbsp\; Advance tickets can be purchased at the Ord Area Chamber of Commerce and Grocery Kart.&nbsp\; 
LOCATION:Valley County Fairgrounds
UID:e.1165.32
SEQUENCE:3
DTSTAMP:20260424T143336Z
URL:https://chamber.ordnebraska.com/events/details/shrine-circus-05-27-2011-32
END:VEVENT

END:VCALENDAR
