BEGIN:VCALENDAR
VERSION:2.0
PRODID:-//ChamberMaster//Event Calendar 2.0//EN
METHOD:PUBLISH
X-PUBLISHED-TTL:P3D
REFRESH-INTERVAL:P3D
CALSCALE:GREGORIAN
BEGIN:VEVENT
DTSTART:20110529T000000Z
DTEND:20110529T020000Z
X-MICROSOFT-CDO-ALLDAYEVENT:FALSE
SUMMARY:Sheila Greenland Concert
DESCRIPTION:Join us for a live performance from Sheila Greenland\, central Nebraska native\, on the west side of the downtown square.  Bring your lawn chairs!  In case of inclement weather\, the concert will be in the Ord High School gym.  This concert is sponsored by the Ord Area Chamber of Commerce. \n\n\n\nwww.sheilagreenland.com
X-ALT-DESC;FMTTYPE=text/html:Join us for a live performance from Sheila Greenland\, central Nebraska native\, on the west side of the downtown square.&nbsp\; Bring your lawn chairs!&nbsp\; In case of inclement weather\, the concert will be in the Ord High School gym.&nbsp\; This concert is sponsored by the Ord Area Chamber of Commerce.&nbsp\;<br />\n<br />\n<a href="http://www.sheilagreenland.com">www.sheilagreenland.com</a><br />\n<br />\n<br />\n
LOCATION:West Side of the Courthouse\, Downtown Ord In case of rain\, the Ord High School gym
UID:e.1165.34
SEQUENCE:3
DTSTAMP:20260424T143737Z
URL:https://chamber.ordnebraska.com/events/details/sheila-greenland-concert-05-28-2011-34
END:VEVENT

END:VCALENDAR
