BEGIN:VCALENDAR
VERSION:2.0
PRODID:-//ChamberMaster//Event Calendar 2.0//EN
METHOD:PUBLISH
X-PUBLISHED-TTL:P3D
REFRESH-INTERVAL:P3D
CALSCALE:GREGORIAN
BEGIN:VEVENT
DTSTART:20110527T010000Z
DTEND:20110527T020000Z
X-MICROSOFT-CDO-ALLDAYEVENT:FALSE
SUMMARY:Rubber Duck Race
DESCRIPTION:Purchase your rubber ducks now for a chance to win part of $2\,000 in price money!  Ducks are being sold at the Ord Area Chamber of Commerce\, Cheveux Salon\, Grocery Kart\, and Trotter's Whoa & Go.  You can also purchase them from any Chamber Board member.  Prices are as follows: 1 duck-$5\, herd of ducks (6)-$25\, flock of ducks (14)-$50. \n\n\n\n1st through 8th place ducks will win part of $2\,000 in ChamberBucks.  Prizes are as follows:\n\n1st Place: $1\,000\, 2nd Place: $500\, 3rd Place: $250\, 4th Place: 200\, 5th Place: $150\, 6th Place: $100\, 7th Place: $75\, 8th Place: $50.  The last place duck winner will pick from four envelopes with $5\, $50\, $100\, and $500.
X-ALT-DESC;FMTTYPE=text/html:Purchase your rubber ducks now for a chance to win part of $2\,000 in price money!&nbsp\; Ducks are being sold at the Ord Area Chamber of Commerce\, Cheveux Salon\, Grocery Kart\, and Trotter&#39\;s Whoa &amp\; Go.&nbsp\; You can also purchase them from any Chamber Board member.&nbsp\; Prices are as follows: 1 duck-$5\, herd of ducks (6)-$25\, flock of ducks (14)-$50.&nbsp\;<br />\n<br />\n1st through 8th place ducks will win part of $2\,000 in ChamberBucks.&nbsp\; Prizes are as follows:<br />\n1st Place: $1\,000\, 2nd Place: $500\, 3rd Place: $250\, 4th Place: 200\, 5th Place: $150\, 6th Place: $100\, 7th Place: $75\, 8th Place: $50.&nbsp\; The last place duck winner will pick from four envelopes with $5\, $50\, $100\, and $500.&nbsp\; 
LOCATION:Ord Golf Course (Tee Box #5)
UID:e.1165.29
SEQUENCE:3
DTSTAMP:20260424T143352Z
URL:https://chamber.ordnebraska.com/events/details/rubber-duck-race-05-26-2011-29
END:VEVENT

END:VCALENDAR
