BEGIN:VCALENDAR
VERSION:2.0
PRODID:-//ChamberMaster//Event Calendar 2.0//EN
METHOD:PUBLISH
X-PUBLISHED-TTL:P3D
REFRESH-INTERVAL:P3D
CALSCALE:GREGORIAN
BEGIN:VEVENT
DTSTART:20130123T150000Z
DTEND:20130123T210000Z
X-MICROSOFT-CDO-ALLDAYEVENT:FALSE
SUMMARY:RCDI Strategic Planning Seminar
DESCRIPTION:Learn how your business or organization can effective integrate strategic planning into your business plan or organization's program of work. \n\n\n\nThere is no registration fee to attend this seminar. Lunch will be provided. Register for the event by contacting Lu Lansman at the Ord Learning Center.
X-ALT-DESC;FMTTYPE=text/html:Learn how your business or organization can effective integrate strategic planning into your business plan or organization&#39\;s program of work.&nbsp\;<br />\n<br />\nThere is no registration fee to attend this seminar. Lunch will be provided. Register for the event by contacting Lu Lansman at the Ord Learning Center.&nbsp\;
LOCATION:Central Community College - Ord Learning Center 1514 K Street - Ord
UID:e.1165.1345
SEQUENCE:3
DTSTAMP:20260423T100943Z
URL:https://chamber.ordnebraska.com/events/details/rcdi-strategic-planning-seminar-01-23-2013-1345
END:VEVENT

END:VCALENDAR
