BEGIN:VCALENDAR
VERSION:2.0
PRODID:-//ChamberMaster//Event Calendar 2.0//EN
METHOD:PUBLISH
X-PUBLISHED-TTL:P3D
REFRESH-INTERVAL:P3D
CALSCALE:GREGORIAN
BEGIN:VEVENT
DTSTART:20130227T233000Z
DTEND:20130228T013000Z
X-MICROSOFT-CDO-ALLDAYEVENT:FALSE
SUMMARY:RCDI Community Builders Event
DESCRIPTION:Interested in learning from and supporting local businesses? If so\, please come to the first in a series of Community Builder Events.\n\n\n\nThe community tour will include stops at Cook & Beals Honey Extracting Equipment\, Goldenrod Gallery Custom Framing and Gifts\, Betz's Little Shoppe\, Bullet Weights\, and Colony Bar & Grill. \n\n\n\nPlease RSVP by Monday\, February 25th. \n\n\n\nFor special accomodations\, please contact Lu Lansman at (308) 728-3299. \n\n\n\nSupper is also included in the event at the expense of the participant.
X-ALT-DESC;FMTTYPE=text/html:Interested in learning from and supporting local businesses? If so\, please come to the first in a series of Community Builder Events.<br />\n<br />\nThe community tour will include stops at Cook &amp\; Beals Honey Extracting Equipment\, Goldenrod Gallery Custom Framing and Gifts\, Betz&#39\;s Little Shoppe\, Bullet Weights\, and Colony Bar &amp\; Grill.&nbsp\;<br />\n<br />\nPlease RSVP by Monday\, February 25th.&nbsp\;<br />\n<br />\nFor special accomodations\, please contact Lu Lansman at (308) 728-3299.&nbsp\;<br />\n<br />\nSupper is also included in the event at the expense of the participant.&nbsp\;
LOCATION:Loup City\, Nebraska
UID:e.1165.1355
SEQUENCE:3
DTSTAMP:20260423T083824Z
URL:https://chamber.ordnebraska.com/events/details/rcdi-community-builders-event-02-27-2013-1355
END:VEVENT

END:VCALENDAR
