BEGIN:VCALENDAR
VERSION:2.0
PRODID:-//ChamberMaster//Event Calendar 2.0//EN
METHOD:PUBLISH
X-PUBLISHED-TTL:P3D
REFRESH-INTERVAL:P3D
CALSCALE:GREGORIAN
BEGIN:VEVENT
DTSTART:20110918T200000Z
DTEND:20110918T230000Z
X-MICROSOFT-CDO-ALLDAYEVENT:FALSE
SUMMARY:Professional Eyecare Grand Re-Opening Extravaganza
DESCRIPTION:Join us at Professional Eyecare for their grand re-opening extravaganza.  There will be food\, entertainment\, specials\, give-aways\, and a live radio feed.  Tours will be given of the new office.  Stop by and visit with the doctors and staff and see what new things Professional Eyecare has to offer.
X-ALT-DESC;FMTTYPE=text/html:Join us at Professional Eyecare for their grand re-opening extravaganza.&nbsp\; There will be food\, entertainment\, specials\, give-aways\, and a live radio feed.&nbsp\; Tours will be given of the new office.&nbsp\; Stop by and visit with the doctors and staff and see what new things Professional Eyecare has to offer. 
LOCATION:Professional Eyecare - 1511 M Street - Ord
UID:e.1165.506
SEQUENCE:3
DTSTAMP:20260423T102151Z
URL:https://chamber.ordnebraska.com/events/details/professional-eyecare-grand-re-opening-extravaganza-09-18-2011-506
END:VEVENT

END:VCALENDAR
