BEGIN:VCALENDAR
VERSION:2.0
PRODID:-//ChamberMaster//Event Calendar 2.0//EN
METHOD:PUBLISH
X-PUBLISHED-TTL:P3D
REFRESH-INTERVAL:P3D
CALSCALE:GREGORIAN
BEGIN:VEVENT
DTSTART:20110930T220000Z
DTEND:20110930T221500Z
X-MICROSOFT-CDO-ALLDAYEVENT:FALSE
SUMMARY:Photo Voting Deadline - September Photo Contest
DESCRIPTION:Voting for September's Photo Contest - High School Sports in Valley County - will end on Friday\, September 30 at 5:00 pm. \n\n\n\nA link to vote for you favorite photo will be posted on Monday\, September 26.
X-ALT-DESC;FMTTYPE=text/html:Voting for September&#39\;s Photo Contest - High School Sports in Valley County - will end on Friday\, September 30 at 5:00 pm.&nbsp\;<br />\n<br />\nA link to vote for you favorite photo will be posted on Monday\, September 26. 
LOCATION:
UID:e.1165.515
SEQUENCE:3
DTSTAMP:20260423T101245Z
URL:https://chamber.ordnebraska.com/events/details/photo-voting-deadline-september-photo-contest-09-30-2011-515
END:VEVENT

END:VCALENDAR
