BEGIN:VCALENDAR
VERSION:2.0
PRODID:-//ChamberMaster//Event Calendar 2.0//EN
METHOD:PUBLISH
X-PUBLISHED-TTL:P3D
REFRESH-INTERVAL:P3D
CALSCALE:GREGORIAN
BEGIN:VEVENT
DTSTART:20111028T220000Z
DTEND:20111028T221500Z
X-MICROSOFT-CDO-ALLDAYEVENT:FALSE
SUMMARY:Photo Voting Deadline - October Photo Contest
DESCRIPTION:Voting for October's Photo Contest - Fall Harvest- will end on Friday\, October 28 at 5:00 pm. \n\n\n\nA link to vote for you favorite photo will be posted on Monday\, October 24.
X-ALT-DESC;FMTTYPE=text/html:<span class="cm_editor_fix">Voting for October&#39\;s Photo Contest - Fall Harvest- will end on Friday\, October 28 at 5:00 pm.&nbsp\;<br />\n<br />\nA link to vote for you favorite photo will be posted on Monday\, October 24.&nbsp\;<span _fck_bookmark="1" style="display: none">&nbsp\;</span></span>
LOCATION:
UID:e.1165.517
SEQUENCE:3
DTSTAMP:20260423T084307Z
URL:https://chamber.ordnebraska.com/events/details/photo-voting-deadline-october-photo-contest-10-28-2011-517
END:VEVENT

END:VCALENDAR
