BEGIN:VCALENDAR
VERSION:2.0
PRODID:-//ChamberMaster//Event Calendar 2.0//EN
METHOD:PUBLISH
X-PUBLISHED-TTL:P3D
REFRESH-INTERVAL:P3D
CALSCALE:GREGORIAN
BEGIN:VEVENT
DTSTART:20110923T220000Z
DTEND:20110923T221500Z
X-MICROSOFT-CDO-ALLDAYEVENT:FALSE
SUMMARY:Photo Submission Deadline - September Photo Contest
DESCRIPTION:September's photo contest theme is High School Sports in Valley County.  Be creative and capture those moments our high school athletes will remember forever. \n\n\n\nThe first place photo for September's contest will receive $200 in Ord Area ChamberBucks.  The second place photo will receive $100 in ChamberBucks. \n\n\n\nYou can submit photos to kvolf@frontier.com by Friday\, September 23 at 5:00 pm.  Anonymous voting will take place online the following week.  Winners will be announced on Friday\, September 30.
X-ALT-DESC;FMTTYPE=text/html:September&#39\;s photo contest theme is <strong>High School Sports in Valley County</strong>.&nbsp\; Be creative and capture those moments our high school athletes will remember forever.&nbsp\;<br />\n<br />\nThe first place photo for September&#39\;s contest will receive <strong>$200 </strong>in Ord Area ChamberBucks.&nbsp\; The second place photo will receive <strong>$100 </strong>in ChamberBucks.&nbsp\;<br />\n<br />\nYou can submit photos to <a href="mailto:kvolf@frontier.com">kvolf@frontier.com</a> by Friday\, September 23 at 5:00 pm.&nbsp\; Anonymous&nbsp\;voting will take place online the following week.&nbsp\; Winners will be announced on Friday\, September 30.&nbsp\;<br />\n<br />\n
LOCATION:
UID:e.1165.514
SEQUENCE:3
DTSTAMP:20260423T101350Z
URL:https://chamber.ordnebraska.com/events/details/photo-submission-deadline-september-photo-contest-09-23-2011-514
END:VEVENT

END:VCALENDAR
