BEGIN:VCALENDAR
VERSION:2.0
PRODID:-//ChamberMaster//Event Calendar 2.0//EN
METHOD:PUBLISH
X-PUBLISHED-TTL:P3D
REFRESH-INTERVAL:P3D
CALSCALE:GREGORIAN
BEGIN:VEVENT
DTSTART:20110529T160000Z
DTEND:20110529T180000Z
X-MICROSOFT-CDO-ALLDAYEVENT:FALSE
SUMMARY:Pancake Feed
DESCRIPTION:Join the community for a Pancake Feed\, sponsored by the Ord Volunteer Fire Department.
X-ALT-DESC;FMTTYPE=text/html:<p>\n	Join the community for a Pancake Feed\, sponsored by the Ord Volunteer Fire Department.&nbsp\;</p>\n
LOCATION:Ord Fire Hall
UID:e.1165.35
SEQUENCE:3
DTSTAMP:20260424T143158Z
URL:https://chamber.ordnebraska.com/events/details/pancake-feed-05-29-2011-35
END:VEVENT

END:VCALENDAR
