BEGIN:VCALENDAR
VERSION:2.0
PRODID:-//ChamberMaster//Event Calendar 2.0//EN
METHOD:PUBLISH
X-PUBLISHED-TTL:P3D
REFRESH-INTERVAL:P3D
CALSCALE:GREGORIAN
BEGIN:VEVENT
DTSTART;VALUE=DATE:20110923
DTEND;VALUE=DATE:20110926
TRANSP:TRANSPARENT
X-MICROSOFT-CDO-ALLDAYEVENT:TRUE
SUMMARY:Ord Township Library Book Sale
DESCRIPTION:BOOKS!  BOOKS!  BOOKS!\n\n\n\nAnnual Book Sale during Junk Jaunt!  Sale begins Friday at 7:00.     \n\nChristian Children's Resource Book Author - Valarie Masin - will be at the Library during Sale for a book signing on Friday from 7:00am -12:00pm.
X-ALT-DESC;FMTTYPE=text/html:BOOKS!&nbsp\; BOOKS!&nbsp\; BOOKS!<br />\n<br />\nAnnual Book Sale during Junk Jaunt!&nbsp\; Sale begins Friday at 7:00.&nbsp\;&nbsp\;&nbsp\;&nbsp\;&nbsp\;<br />\nChristian Children&#39\;s Resource Book Author - Valarie Masin - will be at the Library during Sale for a book signing on Friday from 7:00am -12:00pm.
LOCATION:At the Library - 1718 M Street
UID:e.1165.475
SEQUENCE:3
DTSTAMP:20260423T101032Z
URL:https://chamber.ordnebraska.com/events/details/ord-township-library-book-sale-09-23-2011-475
END:VEVENT

END:VCALENDAR
