BEGIN:VCALENDAR
VERSION:2.0
PRODID:-//ChamberMaster//Event Calendar 2.0//EN
METHOD:PUBLISH
X-PUBLISHED-TTL:P3D
REFRESH-INTERVAL:P3D
CALSCALE:GREGORIAN
BEGIN:VEVENT
DTSTART:20130225T180000Z
DTEND:20130226T010000Z
X-MICROSOFT-CDO-ALLDAYEVENT:FALSE
SUMMARY:Ord Sports Chiropractic & Wellness Patient Appreciation Day
DESCRIPTION:Ord Sports Chiropractic & Wellness will be hosting a Patient Appreciation Day on Monday\, February 25th from Noon - 7:00 pm.  They have been open for 6 months and would like to thank their patients\, family\, and friends for their support. \n\n\n\nSnacks and beverages will be provided and you can also enter their raffle to win great prizes. They will also be promoting their new website\, new patient referral program\, and Dr. Staab's recent certification in Animal Chiropractic.
X-ALT-DESC;FMTTYPE=text/html:Ord Sports Chiropractic &amp\; Wellness will be hosting a Patient Appreciation Day on Monday\, February 25th from Noon - 7:00 pm. &nbsp\;They have been open for 6 months and would like to thank their patients\, family\, and friends for their support.&nbsp\;<br />\n<br />\nSnacks and beverages will be provided and you can also enter their raffle to win great prizes. They will also be promoting their new website\, new patient referral program\, and Dr. Staab&#39\;s recent certification in Animal Chiropractic.&nbsp\;<br />\n<br />\n<br />\n
LOCATION:Ord Sports Chiropractic & Wellness 213 South 16th Street - Ord
UID:e.1165.1356
SEQUENCE:3
DTSTAMP:20260423T101415Z
URL:https://chamber.ordnebraska.com/events/details/ord-sports-chiropractic-wellness-patient-appreciation-day-02-25-2013-1356
END:VEVENT

END:VCALENDAR
