BEGIN:VCALENDAR
VERSION:2.0
PRODID:-//ChamberMaster//Event Calendar 2.0//EN
METHOD:PUBLISH
X-PUBLISHED-TTL:P3D
REFRESH-INTERVAL:P3D
CALSCALE:GREGORIAN
BEGIN:VEVENT
DTSTART;VALUE=DATE:20110826
DTEND;VALUE=DATE:20110827
TRANSP:TRANSPARENT
X-MICROSOFT-CDO-ALLDAYEVENT:TRUE
SUMMARY:Ord Public Schools - First day of school
DESCRIPTION:First day of school for students at Elyria Elementary\, Venton Elementary\, Ord Elementary\, and Ord High School.\n\n\n\nStudents will be dismissed at 1:00pm
X-ALT-DESC;FMTTYPE=text/html:First day of school for students at Elyria Elementary\, Venton Elementary\, Ord Elementary\, and Ord High School.<br />\n<br />\nStudents will be dismissed at 1:00pm
LOCATION:
UID:e.1165.460
SEQUENCE:3
DTSTAMP:20260424T110005Z
URL:https://chamber.ordnebraska.com/events/details/ord-public-schools-first-day-of-school-08-26-2011-460
END:VEVENT

END:VCALENDAR
