BEGIN:VCALENDAR
VERSION:2.0
PRODID:-//ChamberMaster//Event Calendar 2.0//EN
METHOD:PUBLISH
X-PUBLISHED-TTL:P3D
REFRESH-INTERVAL:P3D
CALSCALE:GREGORIAN
BEGIN:VEVENT
DTSTART:20130324T000000Z
DTEND:20130324T030000Z
X-MICROSOFT-CDO-ALLDAYEVENT:FALSE
SUMMARY:Ord Jr./Sr. High School - Musicalia Performance
DESCRIPTION:
X-ALT-DESC;FMTTYPE=text/html:
LOCATION:
UID:e.1165.1370
SEQUENCE:3
DTSTAMP:20260423T084043Z
URL:https://chamber.ordnebraska.com/events/details/ord-jr-sr-high-school-musicalia-performance-03-23-2013-1370
END:VEVENT

END:VCALENDAR
