BEGIN:VCALENDAR
VERSION:2.0
PRODID:-//ChamberMaster//Event Calendar 2.0//EN
METHOD:PUBLISH
X-PUBLISHED-TTL:P3D
REFRESH-INTERVAL:P3D
CALSCALE:GREGORIAN
BEGIN:VEVENT
DTSTART:20110901T150000Z
DTEND:20110901T160000Z
X-MICROSOFT-CDO-ALLDAYEVENT:FALSE
SUMMARY:Ord High School Ribbon Cutting
DESCRIPTION:Ribbon Cutting for addition and remodeling of school building.\n\n\n\nSpecial Guests:  Governor Dave Heinemann and Senator Kate Sullivan
X-ALT-DESC;FMTTYPE=text/html:Ribbon Cutting for&nbsp\;addition and remodeling of school building.<br />\n<br />\nSpecial Guests:&nbsp\; Governor Dave Heinemann and Senator Kate Sullivan
LOCATION:Ord High School - 18th & K Street
UID:e.1165.497
SEQUENCE:3
DTSTAMP:20260423T101825Z
URL:https://chamber.ordnebraska.com/events/details/ord-high-school-ribbon-cutting-09-01-2011-497
END:VEVENT

END:VCALENDAR
