BEGIN:VCALENDAR
VERSION:2.0
PRODID:-//ChamberMaster//Event Calendar 2.0//EN
METHOD:PUBLISH
X-PUBLISHED-TTL:P3D
REFRESH-INTERVAL:P3D
CALSCALE:GREGORIAN
BEGIN:VEVENT
DTSTART:20111030T000000Z
DTEND:20111030T000000Z
X-MICROSOFT-CDO-ALLDAYEVENT:FALSE
SUMMARY:Ord High School - Fall Concert
DESCRIPTION:
X-ALT-DESC;FMTTYPE=text/html:
LOCATION:
UID:e.1165.465
SEQUENCE:3
DTSTAMP:20260423T083933Z
URL:https://chamber.ordnebraska.com/events/details/ord-high-school-fall-concert-10-29-2011-465
END:VEVENT

END:VCALENDAR
