BEGIN:VCALENDAR
VERSION:2.0
PRODID:-//ChamberMaster//Event Calendar 2.0//EN
METHOD:PUBLISH
X-PUBLISHED-TTL:P3D
REFRESH-INTERVAL:P3D
CALSCALE:GREGORIAN
BEGIN:VEVENT
DTSTART;VALUE=DATE:20110624
DTEND;VALUE=DATE:20110625
TRANSP:TRANSPARENT
X-MICROSOFT-CDO-ALLDAYEVENT:TRUE
SUMMARY:Ord Grocery Kart's 15th Anniversary Truckload Sale
DESCRIPTION:Stop in to see Grocery Kart's specials on fresh produce and more! Hamburgers and hotdogs will be served from 11am-1pm for only $2 with proceeds going to a local charity.
X-ALT-DESC;FMTTYPE=text/html:Stop in to see Grocery Kart&#39\;s specials on fresh produce and more! Hamburgers and hotdogs will be served from 11am-1pm for only $2 with proceeds going to a local charity. &nbsp\;
LOCATION:Ord Grocery Kart\, 136 N 15th Street
UID:e.1165.318
SEQUENCE:3
DTSTAMP:20260424T133808Z
URL:https://chamber.ordnebraska.com/events/details/ord-grocery-kart-s-15th-anniversary-truckload-sale-06-24-2011-318
END:VEVENT

END:VCALENDAR
