BEGIN:VCALENDAR
VERSION:2.0
PRODID:-//ChamberMaster//Event Calendar 2.0//EN
METHOD:PUBLISH
X-PUBLISHED-TTL:P3D
REFRESH-INTERVAL:P3D
CALSCALE:GREGORIAN
BEGIN:VEVENT
DTSTART:20110926T170000Z
DTEND:20110926T180000Z
X-MICROSOFT-CDO-ALLDAYEVENT:FALSE
SUMMARY:Ord Greeters Meeting
DESCRIPTION:The Ord Area Greeters committee will be meeting to discuss plans for the Newcomer Husker Football Event at the Valley County Fairgrounds on October 8.  If you would like to become involved in the Ord Area Greeters Committee\, please contact the Ord Area Chamber office at (308) 728-7875. \n\n\n\nIf you are a newcomer to the area and would like a welcome packet with information about our community and gifts from Chamber business members\, contact the Chamber office at the number listed above.
X-ALT-DESC;FMTTYPE=text/html:The Ord Area Greeters committee will be meeting to discuss plans for the Newcomer Husker Football Event at the Valley County Fairgrounds on October 8.&nbsp\; If you would like to become involved in the Ord Area Greeters Committee\, please contact the Ord Area Chamber office at (308) 728-7875.&nbsp\;<br />\n<br />\nIf you are a newcomer to the area and would like a welcome packet with information about our community and&nbsp\;gifts from Chamber business members\, contact the Chamber office at the number listed above. 
LOCATION:Ord Area Chamber of Commerce\, 1514 K Street
UID:e.1165.502
SEQUENCE:3
DTSTAMP:20260423T113359Z
URL:https://chamber.ordnebraska.com/events/details/ord-greeters-meeting-09-26-2011-502
END:VEVENT

END:VCALENDAR
