BEGIN:VCALENDAR
VERSION:2.0
PRODID:-//ChamberMaster//Event Calendar 2.0//EN
METHOD:PUBLISH
X-PUBLISHED-TTL:P3D
REFRESH-INTERVAL:P3D
CALSCALE:GREGORIAN
BEGIN:VEVENT
DTSTART:20111008T000000Z
DTEND:20111008T000000Z
X-MICROSOFT-CDO-ALLDAYEVENT:FALSE
SUMMARY:Ord Football - Homecoming Game
DESCRIPTION:
X-ALT-DESC;FMTTYPE=text/html:
LOCATION:Bussell Park football field
UID:e.1165.463
SEQUENCE:3
DTSTAMP:20260423T084308Z
URL:https://chamber.ordnebraska.com/events/details/ord-football-homecoming-game-10-07-2011-463
END:VEVENT

END:VCALENDAR
