BEGIN:VCALENDAR
VERSION:2.0
PRODID:-//ChamberMaster//Event Calendar 2.0//EN
METHOD:PUBLISH
X-PUBLISHED-TTL:P3D
REFRESH-INTERVAL:P3D
CALSCALE:GREGORIAN
BEGIN:VEVENT
DTSTART;VALUE=DATE:20260422
DTEND;VALUE=DATE:20260501
TRANSP:TRANSPARENT
X-MICROSOFT-CDO-ALLDAYEVENT:TRUE
SUMMARY:Ord FCCLA Chapter May Day Baskets
DESCRIPTION:Ord FCCLA Chapter May Day Baskets\n\nThe Ord FCCLA Chapter is selling May Day Baskets to be delivered anonymously on May Day!\n\nTwo options child or adult. See the flyer attached for all the details. \n\nDeadline to order is April 30th!
X-ALT-DESC;FMTTYPE=text/html:<span style="font-size:20px\;"><strong>Ord FCCLA Chapter May Day Baskets</strong></span><br />\n<span style="font-size:18px\;">The Ord FCCLA Chapter is selling May Day Baskets to be delivered anonymously on May Day!<br />\nTwo options&mdash\;child or adult. See the flyer attached for all the details.&nbsp\;<br />\nDeadline to order is April 30th!</span>
LOCATION:Ord FCCLA Chapter
UID:e.1165.12941
SEQUENCE:3
DTSTAMP:20260424T094738Z
URL:https://chamber.ordnebraska.com/events/details/ord-fccla-chapter-may-day-baskets-12941
END:VEVENT

END:VCALENDAR
