BEGIN:VCALENDAR
VERSION:2.0
PRODID:-//ChamberMaster//Event Calendar 2.0//EN
METHOD:PUBLISH
X-PUBLISHED-TTL:P3D
REFRESH-INTERVAL:P3D
CALSCALE:GREGORIAN
BEGIN:VEVENT
DTSTART;VALUE=DATE:20110820
DTEND;VALUE=DATE:20110821
TRANSP:TRANSPARENT
X-MICROSOFT-CDO-ALLDAYEVENT:TRUE
SUMMARY:Ord Citywide Garage Sales
DESCRIPTION:For an entry form or for more information on Ord's Citywide Garage Sales\, contact Heidi Veskerna or stop by 16th Street Salon\, 121 N. 16th Street.
X-ALT-DESC;FMTTYPE=text/html:For an entry form or for more information on Ord&#39\;s Citywide Garage Sales\, contact Heidi Veskerna or stop by 16th Street Salon\, 121 N. 16th Street. 
LOCATION:Ord\, Nebraska
UID:e.1165.322
SEQUENCE:3
DTSTAMP:20260424T105942Z
URL:https://chamber.ordnebraska.com/events/details/ord-citywide-garage-sales-08-20-2011-322
END:VEVENT

END:VCALENDAR
