BEGIN:VCALENDAR
VERSION:2.0
PRODID:-//ChamberMaster//Event Calendar 2.0//EN
METHOD:PUBLISH
X-PUBLISHED-TTL:P3D
REFRESH-INTERVAL:P3D
CALSCALE:GREGORIAN
BEGIN:VEVENT
DTSTART:20110712T170000Z
DTEND:20110712T180000Z
X-MICROSOFT-CDO-ALLDAYEVENT:FALSE
SUMMARY:Ord Area Chamber of Commerce Board Meeting
DESCRIPTION:
X-ALT-DESC;FMTTYPE=text/html:
LOCATION:Ord Area Chamber of Commerce\, 1514 K Street
UID:e.1165.324
SEQUENCE:3
DTSTAMP:20260424T120132Z
URL:https://chamber.ordnebraska.com/events/details/ord-area-chamber-of-commerce-board-meeting-07-12-2011-324
END:VEVENT

END:VCALENDAR
