BEGIN:VCALENDAR
VERSION:2.0
PRODID:-//ChamberMaster//Event Calendar 2.0//EN
METHOD:PUBLISH
X-PUBLISHED-TTL:P3D
REFRESH-INTERVAL:P3D
CALSCALE:GREGORIAN
BEGIN:VEVENT
DTSTART;VALUE=DATE:20110614
DTEND;VALUE=DATE:20110615
TRANSP:TRANSPARENT
X-MICROSOFT-CDO-ALLDAYEVENT:TRUE
SUMMARY:Ord Area Chamber of Commerce Board Meeting
DESCRIPTION:
X-ALT-DESC;FMTTYPE=text/html:
LOCATION:1514 K Street\, Ord\, NE 68862
UID:e.1165.40
SEQUENCE:3
DTSTAMP:20260424T133652Z
URL:https://chamber.ordnebraska.com/events/details/ord-area-chamber-of-commerce-board-meeting-06-14-2011-40
END:VEVENT

END:VCALENDAR
