BEGIN:VCALENDAR
VERSION:2.0
PRODID:-//ChamberMaster//Event Calendar 2.0//EN
METHOD:PUBLISH
X-PUBLISHED-TTL:P3D
REFRESH-INTERVAL:P3D
CALSCALE:GREGORIAN
BEGIN:VEVENT
DTSTART:20111014T210000Z
DTEND:20111014T230000Z
X-MICROSOFT-CDO-ALLDAYEVENT:FALSE
SUMMARY:Open House for The Picture Lady
DESCRIPTION:Meet The Picture Lady\, JoAnn Urbanovsky\, and enjoy refreshment\, take advantage of coupons and holiday specials\, and learn about her green screen background technology. \n\n\n\nYou can contact JoAnn at (308) 728-3040 or email her at thepicturelady@frontier.com.
X-ALT-DESC;FMTTYPE=text/html:Meet The Picture Lady\, JoAnn Urbanovsky\,&nbsp\;and enjoy refreshment\, take advantage of coupons and holiday specials\, and learn about her green screen background technology.&nbsp\;<br />\n<br />\nYou can contact JoAnn at (308) 728-3040 or email her at <a href="mailto:thepicturelady@frontier.com">thepicturelady@frontier.com</a>.<br />\n<br />\n
LOCATION:CCC-Ord Learning Center\, 1514 K Street
UID:e.1165.650
SEQUENCE:3
DTSTAMP:20260423T084117Z
URL:https://chamber.ordnebraska.com/events/details/open-house-for-the-picture-lady-10-14-2011-650
END:VEVENT

END:VCALENDAR
