BEGIN:VCALENDAR
VERSION:2.0
PRODID:-//ChamberMaster//Event Calendar 2.0//EN
METHOD:PUBLISH
X-PUBLISHED-TTL:P3D
REFRESH-INTERVAL:P3D
CALSCALE:GREGORIAN
BEGIN:VEVENT
DTSTART;VALUE=DATE:20110826
DTEND;VALUE=DATE:20110829
TRANSP:TRANSPARENT
X-MICROSOFT-CDO-ALLDAYEVENT:TRUE
SUMMARY:North Loup Popcorn Days
DESCRIPTION:North Loup Popcorn Days \n\nNebraska's Longest Continuously Running Celebration \n\nEstablished 1901\n\n \n\nAll the free popcorn you can eat!\n\n\n\nYou can download a complete schedule of events at the link provided.
X-ALT-DESC;FMTTYPE=text/html:North Loup Popcorn Days&nbsp\;<br />\nNebraska&#39\;s Longest Continuously Running Celebration&nbsp\;<br />\nEstablished 1901<br />\n<span _fck_bookmark="1" style="display: none">&nbsp\;</span><br />\nAll the free popcorn you can eat!<br />\n<br />\nYou can download a complete schedule of events at the link provided.
LOCATION:Downtown North Loup
UID:e.1165.15
SEQUENCE:3
DTSTAMP:20260424T105003Z
URL:https://chamber.ordnebraska.com/events/details/north-loup-popcorn-days-08-26-2011-15
END:VEVENT

END:VCALENDAR
