BEGIN:VCALENDAR
VERSION:2.0
PRODID:-//ChamberMaster//Event Calendar 2.0//EN
METHOD:PUBLISH
X-PUBLISHED-TTL:P3D
REFRESH-INTERVAL:P3D
CALSCALE:GREGORIAN
BEGIN:VEVENT
DTSTART:20110527T023000Z
DTEND:20110527T040000Z
X-MICROSOFT-CDO-ALLDAYEVENT:FALSE
SUMMARY:Movie Night Under the Stars
DESCRIPTION:Frontier Communications will be sponsoring a Movie Night Under the Stars during ExtraORDinary Days.  Bring your blankets and lawn chairs and enjoy some time with family and friends while watching a great family movie\, Princess Bride\, under the stars.  During the movie concessions will be available from the Girls Softball Program and Double Dip Ice Cream will also be located in the park.
X-ALT-DESC;FMTTYPE=text/html:Frontier Communications will be sponsoring a Movie Night Under the Stars during ExtraORDinary Days.&nbsp\; Bring your blankets and lawn chairs and enjoy some time with family and friends while watching a great family movie\, Princess Bride\, under the stars.&nbsp\; During the movie concessions will be available from the Girls Softball Program and Double Dip Ice Cream will also be located in the park.&nbsp\; 
LOCATION:Softball Outfield\, Bussell Park - Ord
UID:e.1165.30
SEQUENCE:3
DTSTAMP:20260424T143859Z
URL:https://chamber.ordnebraska.com/events/details/movie-night-under-the-stars-05-26-2011-30
END:VEVENT

END:VCALENDAR
