BEGIN:VCALENDAR
VERSION:2.0
PRODID:-//ChamberMaster//Event Calendar 2.0//EN
METHOD:PUBLISH
X-PUBLISHED-TTL:P3D
REFRESH-INTERVAL:P3D
CALSCALE:GREGORIAN
BEGIN:VEVENT
DTSTART;VALUE=DATE:20110820
DTEND;VALUE=DATE:20110822
TRANSP:TRANSPARENT
X-MICROSOFT-CDO-ALLDAYEVENT:TRUE
SUMMARY:Loup Valley Livestock Challenge
DESCRIPTION:Loup Valley Livestoc Challenge - Fifth Annual Show of Champions\n\n\n\nAre you looking for something different in a livestock show?\n\n	\n		Join exhibitors from across the midwest that have shown county fair champions\n	\n		The competition is keen\, the judging format is unique\, and the hospitality is great\n	\n		There areno entry fees and the location in the heart of central Nebraska in Ord\n	\n		The CHALLENGE is Nebraska's one-of-a-kind show and the show committee is dedicated to providing a great experience for each participant\n	\n		Take the "Challenge" and continue your champion summer in Ord August 20-21\n	\n		To download a brochure and a verification form\, visit http://www.valleycountyfairgrounds.com/valley-county-fair-grounds/2011-loup-valley-livestock-challenge/
X-ALT-DESC;FMTTYPE=text/html:Loup Valley Livestoc Challenge - Fifth Annual Show of Champions<br />\n<br />\nAre you looking for something different in a livestock show?\n<ul>\n	<li>\n		Join exhibitors from across the midwest that have shown county fair champions</li>\n	<li>\n		The competition is keen\, the judging format is unique\, and the hospitality is great</li>\n	<li>\n		There areno entry fees and the location in the heart of central Nebraska in Ord</li>\n	<li>\n		The CHALLENGE is Nebraska&#39\;s one-of-a-kind show and the show committee is dedicated to providing a great experience for each participant</li>\n	<li>\n		Take the &quot\;Challenge&quot\; and continue your champion summer in Ord August 20-21</li>\n	<li>\n		To download a brochure and a verification form\, visit <a href="http://www.valleycountyfairgrounds.com/valley-county-fair-grounds/2011-loup-valley-livestock-challenge/">http://www.valleycountyfairgrounds.com/valley-county-fair-grounds/2011-loup-valley-livestock-challenge/</a><span _fck_bookmark="1" style="display: none">&nbsp\;</span></li>\n	&nbsp\;\n</ul>\n
LOCATION:Valley County Fairgrounds 801 S Street Ord\, NE
UID:e.1165.14
SEQUENCE:3
DTSTAMP:20260424T105445Z
URL:https://chamber.ordnebraska.com/events/details/loup-valley-livestock-challenge-08-20-2011-14
END:VEVENT

END:VCALENDAR
