BEGIN:VCALENDAR
VERSION:2.0
PRODID:-//ChamberMaster//Event Calendar 2.0//EN
METHOD:PUBLISH
X-PUBLISHED-TTL:P3D
REFRESH-INTERVAL:P3D
CALSCALE:GREGORIAN
BEGIN:VEVENT
DTSTART:20110901T220000Z
DTEND:20110902T010000Z
X-MICROSOFT-CDO-ALLDAYEVENT:FALSE
SUMMARY:Junior Chant Pride Fundraiser
DESCRIPTION:Help support the Junior Chant Pride Program during a free will donation sloppy joe supper at the Ord High School in conjunction with the OHS volleyball games. \n\nThe 9th\, Reserve\, and Varsity volleyball games will begin at 5:00\, 6:00\, and 7:00 pm.  For more information on the Junior Chant Pride Program\, contact Elementary Principal\, Doug Smith.
X-ALT-DESC;FMTTYPE=text/html:Help support the Junior Chant Pride Program during a free will donation sloppy joe supper at the Ord High School in conjunction with the OHS volleyball games.&nbsp\;<br />\nThe 9th\, Reserve\, and Varsity volleyball games will begin at 5:00\, 6:00\, and 7:00 pm.&nbsp\; For more information on the Junior Chant Pride Program\, contact Elementary Principal\, Doug Smith.
LOCATION:Ord High School
UID:e.1165.509
SEQUENCE:3
DTSTAMP:20260423T110405Z
URL:https://chamber.ordnebraska.com/events/details/junior-chant-pride-fundraiser-09-01-2011-509
END:VEVENT

END:VCALENDAR
